BEGIN:VCALENDAR
VERSION:2.0
PRODID:-//Basisschool Op Avontuur - ECPv5.16.1.1//NONSGML v1.0//EN
CALSCALE:GREGORIAN
METHOD:PUBLISH
X-WR-CALNAME:Basisschool Op Avontuur
X-ORIGINAL-URL:https://bsopavontuur.nl
X-WR-CALDESC:Evenementen voor Basisschool Op Avontuur
REFRESH-INTERVAL;VALUE=DURATION:PT1H
X-Robots-Tag:noindex
X-PUBLISHED-TTL:PT1H
BEGIN:VTIMEZONE
TZID:Europe/Amsterdam
BEGIN:DAYLIGHT
TZOFFSETFROM:+0100
TZOFFSETTO:+0200
TZNAME:CEST
DTSTART:20240331T010000
END:DAYLIGHT
BEGIN:STANDARD
TZOFFSETFROM:+0200
TZOFFSETTO:+0100
TZNAME:CET
DTSTART:20241027T010000
END:STANDARD
END:VTIMEZONE
BEGIN:VEVENT
DTSTART;TZID=Europe/Amsterdam:20240531T080000
DTEND;TZID=Europe/Amsterdam:20240531T170000
DTSTAMP:20260421T032827
CREATED:20240417T095630Z
LAST-MODIFIED:20240417T095632Z
UID:2909-1717142400-1717174800@bsopavontuur.nl
SUMMARY:Schoolreisje
DESCRIPTION:
URL:https://bsopavontuur.nl/event/schoolreisje/
END:VEVENT
BEGIN:VEVENT
DTSTART;TZID=Europe/Amsterdam:20240521T180000
DTEND;TZID=Europe/Amsterdam:20240524T180000
DTSTAMP:20260421T032827
CREATED:20240417T090132Z
LAST-MODIFIED:20240417T090408Z
UID:2905-1716314400-1716573600@bsopavontuur.nl
SUMMARY:Avond4daagse
DESCRIPTION:
URL:https://bsopavontuur.nl/event/avond4daagse/
END:VEVENT
BEGIN:VEVENT
DTSTART;TZID=Europe/Amsterdam:20240520T080000
DTEND;TZID=Europe/Amsterdam:20240520T170000
DTSTAMP:20260421T032827
CREATED:20240417T085908Z
LAST-MODIFIED:20240417T085910Z
UID:2901-1716192000-1716224400@bsopavontuur.nl
SUMMARY:2e pinksterdag
DESCRIPTION:kinderen zijn vrij
URL:https://bsopavontuur.nl/event/2e-pinksterdag/
END:VEVENT
BEGIN:VEVENT
DTSTART;TZID=Europe/Amsterdam:20240515T083000
DTEND;TZID=Europe/Amsterdam:20240515T093000
DTSTAMP:20260421T032827
CREATED:20240417T085404Z
LAST-MODIFIED:20240417T085405Z
UID:2897-1715761800-1715765400@bsopavontuur.nl
SUMMARY:koffieochtend
DESCRIPTION:
URL:https://bsopavontuur.nl/event/koffieochtend/
END:VEVENT
BEGIN:VEVENT
DTSTART;TZID=Europe/Amsterdam:20240427T080000
DTEND;TZID=Europe/Amsterdam:20240512T170000
DTSTAMP:20260421T032827
CREATED:20240416T113226Z
LAST-MODIFIED:20240416T113228Z
UID:2891-1714204800-1715533200@bsopavontuur.nl
SUMMARY:Meivakantie
DESCRIPTION:
URL:https://bsopavontuur.nl/event/meivakantie/
END:VEVENT
END:VCALENDAR